BEGIN:VCALENDAR
VERSION:2.0
PRODID:-//The Dyrt - ECPv6.15.18//NONSGML v1.0//EN
CALSCALE:GREGORIAN
METHOD:PUBLISH
X-WR-CALNAME:The Dyrt
X-ORIGINAL-URL:https://thedyrt.com/magazine
X-WR-CALDESC:Events for The Dyrt
REFRESH-INTERVAL;VALUE=DURATION:PT1H
X-Robots-Tag:noindex
X-PUBLISHED-TTL:PT1H
BEGIN:VTIMEZONE
TZID:America/Los_Angeles
BEGIN:DAYLIGHT
TZOFFSETFROM:-0800
TZOFFSETTO:-0700
TZNAME:PDT
DTSTART:20250309T100000
END:DAYLIGHT
BEGIN:STANDARD
TZOFFSETFROM:-0700
TZOFFSETTO:-0800
TZNAME:PST
DTSTART:20251102T090000
END:STANDARD
BEGIN:DAYLIGHT
TZOFFSETFROM:-0800
TZOFFSETTO:-0700
TZNAME:PDT
DTSTART:20260308T100000
END:DAYLIGHT
BEGIN:STANDARD
TZOFFSETFROM:-0700
TZOFFSETTO:-0800
TZNAME:PST
DTSTART:20261101T090000
END:STANDARD
BEGIN:DAYLIGHT
TZOFFSETFROM:-0800
TZOFFSETTO:-0700
TZNAME:PDT
DTSTART:20270314T100000
END:DAYLIGHT
BEGIN:STANDARD
TZOFFSETFROM:-0700
TZOFFSETTO:-0800
TZNAME:PST
DTSTART:20271107T090000
END:STANDARD
END:VTIMEZONE
BEGIN:VTIMEZONE
TZID:America/Detroit
BEGIN:DAYLIGHT
TZOFFSETFROM:-0500
TZOFFSETTO:-0400
TZNAME:EDT
DTSTART:20250309T070000
END:DAYLIGHT
BEGIN:STANDARD
TZOFFSETFROM:-0400
TZOFFSETTO:-0500
TZNAME:EST
DTSTART:20251102T060000
END:STANDARD
BEGIN:DAYLIGHT
TZOFFSETFROM:-0500
TZOFFSETTO:-0400
TZNAME:EDT
DTSTART:20260308T070000
END:DAYLIGHT
BEGIN:STANDARD
TZOFFSETFROM:-0400
TZOFFSETTO:-0500
TZNAME:EST
DTSTART:20261101T060000
END:STANDARD
BEGIN:DAYLIGHT
TZOFFSETFROM:-0500
TZOFFSETTO:-0400
TZNAME:EDT
DTSTART:20270314T070000
END:DAYLIGHT
BEGIN:STANDARD
TZOFFSETFROM:-0400
TZOFFSETTO:-0500
TZNAME:EST
DTSTART:20271107T060000
END:STANDARD
END:VTIMEZONE
BEGIN:VEVENT
DTSTART;VALUE=DATE:20260213
DTEND;VALUE=DATE:20260216
DTSTAMP:20260419T221306
CREATED:20251218T003653Z
LAST-MODIFIED:20251218T003956Z
UID:63392-1770940800-1771199999@thedyrt.com
SUMMARY:The Lawton RV & Boat Show
DESCRIPTION:The Lawton RV & Boat Show is back and is sponsored by the Fort Sill Federal Credit Union and Wayne’s Drive Inn! Come see the latest makes and models of new RVs and Boats along with ATVs\, UTVs\, personal watercraft\, motorcycles and outdoor equipment at special show prices! See the latest models for 2026\nwith various exhibitors showcasing Oklahoma based businesses! Come check it out and have a great 2025!!! Your adventure starts here! \nAdmission is $8 at the door\nor go by any Ft. Sill Federal Credit Union\, RV Connection\, AquaMarine or Wayne’s Drive Inn for $3 off coupons!\nChildren 12 & under free! \nFriday 2:00pm-7:00pm\nSaturday 10:00am-8:00pm\nSunday 12pm-5pm
URL:https://thedyrt.com/magazine/event/the-lawton-rv-boat-show/
LOCATION:Comanche County Fairgrounds\, 920 SW Sheridan Rd\, Lawton\, OK\, 73505\, United States
ATTACH;FMTTYPE=image/png:https://blog-assets.thedyrt.com/uploads/2025/12/Screenshot-2025-12-17-at-2.36.22-PM.png
END:VEVENT
BEGIN:VEVENT
DTSTART;VALUE=DATE:20260211
DTEND;VALUE=DATE:20260216
DTSTAMP:20260419T221306
CREATED:20260126T204347Z
LAST-MODIFIED:20260126T204347Z
UID:63476-1770768000-1771199999@thedyrt.com
SUMMARY:Pacific Northwest Sportsmen’s Show
DESCRIPTION:WED 11:00 AM – 8:00 PM\nTHURS 11:00 AM – 8:00 PM\nFRI 11:00 AM – 8:00 PM\nSAT 10:00 AM – 8:00 PM\nSUN 10:00 AM – 5:00 PM \n 
URL:https://thedyrt.com/magazine/event/pacific-northwest-sportsmens-show/
LOCATION:Portland Expo Center\, 2060 N Marine Dr\, Portland\, OR\, 97217\, United States
ATTACH;FMTTYPE=image/webp:https://blog-assets.thedyrt.com/uploads/2026/01/pnwss-logo-300x165-1.webp
END:VEVENT
BEGIN:VEVENT
DTSTART;VALUE=DATE:20260123
DTEND;VALUE=DATE:20260126
DTSTAMP:20260419T221306
CREATED:20260109T004738Z
LAST-MODIFIED:20260109T004738Z
UID:63404-1769126400-1769385599@thedyrt.com
SUMMARY:Iowa Boat\, RV and Vacation Show
DESCRIPTION:Tickets for the boat\, RV\, and vacation show in Iowa are available for purchase both at the door and online. The show offers a wide range of attractions\, including a great selection of fishing boats\, pontoons\, and campers at excellent pre-spring prices. Additionally\, there are exhibits related to fishing\, hunting\, and travel\, featuring outposts\, family resorts\, canoe outfitters\, tourism associations\, campgrounds\, hunting outfitters\, fishing tackle\, hunting gear\, golf cars\, all-terrain vehicles\, and much more. \nFriday: 3pm – 8pm \nSaturday: 10am – 7pm \nSunday: 10am – 4pm
URL:https://thedyrt.com/magazine/event/iowa-boat-rv-and-vacation-show/
LOCATION:Uni-Dome\, 2501 Hudson Rd\, Cedar Falls\, IA\, 50614\, United States
ATTACH;FMTTYPE=image/webp:https://blog-assets.thedyrt.com/uploads/2026/01/iowa.webp
END:VEVENT
BEGIN:VEVENT
DTSTART;VALUE=DATE:20260116
DTEND;VALUE=DATE:20260119
DTSTAMP:20260419T221306
CREATED:20251218T002635Z
LAST-MODIFIED:20251218T004843Z
UID:63388-1768521600-1768780799@thedyrt.com
SUMMARY:The OKC Boat & RV Show
DESCRIPTION:The Best Deals on Boats and RV’s just got BIGGER in 2026!\nFor more than 30 years\, the OKC Boat & RV Show has been fixture in Oklahoma for discovering fantastic offers on new boats and RVs. Our welcoming family atmosphere and a wide range of reputable dealers have established this show as one of the top events in the country to visit or showcase at. Wake boats\, fishing boats\, pontoons\, tritoons\, personal watercraft\, RVs\, custom motorhomes\, travel trailers\, toy haulers\, pop-ups\, and just about everything for the outdoors. In 2026 the OKC Boat & RV Show expands to 3 buildings! That means more selection\, more savings and more fun! Don’t miss this opportunity to save BIG on your new boat or RV January 16th-18th! \n  \nGet $5 off your entry ticket with a coupon from any Metro Area Oncue! Tickets are available onsite at the State Fair Box Office. \nFriday 1/16/26 11am-8pm\nSaturday 1/17/26 10am-8pm\nSunday 1/18/26 10am-5pm
URL:https://thedyrt.com/magazine/event/the-okc-boat-rv-show/
LOCATION:Bennett Event Center\, 3101 Gordon Cooper Blvd\, Oklahoma City\, OK\, 73107\, United States
ATTACH;FMTTYPE=image/png:https://blog-assets.thedyrt.com/uploads/2025/12/Screenshot-2025-12-17-at-2.25.57-PM.png
END:VEVENT
BEGIN:VEVENT
DTSTART;VALUE=DATE:20260115
DTEND;VALUE=DATE:20260119
DTSTAMP:20260419T221306
CREATED:20250930T192422Z
LAST-MODIFIED:20251031T213117Z
UID:63097-1768435200-1768780799@thedyrt.com
SUMMARY:Grand Rapids Camper\, Travel & RV Show
DESCRIPTION:The Grand Rapids Camper\, Travel\, & RV Show is one of Michigan’s premiere camping expos and one of the first in 2026\, running from January 15th through 18th. The show opens at different times each day\, so check their website to plan ahead. \nFrom their website: “A dozen West Michigan RV dealers representing more than 100 RV lines combined with 200\,000+ square feet results in the biggest RV Show in the state – The Grand Rapids Camper\, Travel & RV Show. Along with new RV’s\, we have a remarkable selection of RV accessories\, campgrounds and travel destinations!”
URL:https://thedyrt.com/magazine/event/grand-rapids-camper-travel-rv-show/
LOCATION:Devos Place\, 303 Monroe Ave NW\, Grand Rapids\, MI\, 49503\, United States
ATTACH;FMTTYPE=image/png:https://blog-assets.thedyrt.com/uploads/2025/09/Screenshot-2025-10-31-at-2.30.32-PM.png
END:VEVENT
END:VCALENDAR