BEGIN:VCALENDAR
VERSION:2.0
PRODID:-//The Dyrt - ECPv6.15.18//NONSGML v1.0//EN
CALSCALE:GREGORIAN
METHOD:PUBLISH
X-WR-CALNAME:The Dyrt
X-ORIGINAL-URL:https://thedyrt.com/magazine
X-WR-CALDESC:Events for The Dyrt
REFRESH-INTERVAL;VALUE=DURATION:PT1H
X-Robots-Tag:noindex
X-PUBLISHED-TTL:PT1H
BEGIN:VTIMEZONE
TZID:America/Chicago
BEGIN:DAYLIGHT
TZOFFSETFROM:-0600
TZOFFSETTO:-0500
TZNAME:CDT
DTSTART:20250309T080000
END:DAYLIGHT
BEGIN:STANDARD
TZOFFSETFROM:-0500
TZOFFSETTO:-0600
TZNAME:CST
DTSTART:20251102T070000
END:STANDARD
BEGIN:DAYLIGHT
TZOFFSETFROM:-0600
TZOFFSETTO:-0500
TZNAME:CDT
DTSTART:20260308T080000
END:DAYLIGHT
BEGIN:STANDARD
TZOFFSETFROM:-0500
TZOFFSETTO:-0600
TZNAME:CST
DTSTART:20261101T070000
END:STANDARD
BEGIN:DAYLIGHT
TZOFFSETFROM:-0600
TZOFFSETTO:-0500
TZNAME:CDT
DTSTART:20270314T080000
END:DAYLIGHT
BEGIN:STANDARD
TZOFFSETFROM:-0500
TZOFFSETTO:-0600
TZNAME:CST
DTSTART:20271107T070000
END:STANDARD
END:VTIMEZONE
BEGIN:VTIMEZONE
TZID:America/Los_Angeles
BEGIN:DAYLIGHT
TZOFFSETFROM:-0800
TZOFFSETTO:-0700
TZNAME:PDT
DTSTART:20250309T100000
END:DAYLIGHT
BEGIN:STANDARD
TZOFFSETFROM:-0700
TZOFFSETTO:-0800
TZNAME:PST
DTSTART:20251102T090000
END:STANDARD
BEGIN:DAYLIGHT
TZOFFSETFROM:-0800
TZOFFSETTO:-0700
TZNAME:PDT
DTSTART:20260308T100000
END:DAYLIGHT
BEGIN:STANDARD
TZOFFSETFROM:-0700
TZOFFSETTO:-0800
TZNAME:PST
DTSTART:20261101T090000
END:STANDARD
BEGIN:DAYLIGHT
TZOFFSETFROM:-0800
TZOFFSETTO:-0700
TZNAME:PDT
DTSTART:20270314T100000
END:DAYLIGHT
BEGIN:STANDARD
TZOFFSETFROM:-0700
TZOFFSETTO:-0800
TZNAME:PST
DTSTART:20271107T090000
END:STANDARD
END:VTIMEZONE
BEGIN:VEVENT
DTSTART;VALUE=DATE:20260417
DTEND;VALUE=DATE:20260419
DTSTAMP:20260418T224432
CREATED:20250930T191756Z
LAST-MODIFIED:20260320T162529Z
UID:63088-1776384000-1776556799@thedyrt.com
SUMMARY:MOORE Expo
DESCRIPTION:The MOORE Expo is the Midwest’s premier gathering for overlanders\, off-road enthusiasts\, and outdoor adventurers—right in the heart of Springfield\, Missouri. \nReturning April 17–18\, 2026\, this high-energy two-day event transforms the Ozark Empire Fairgrounds into an immersive world of industry exploration\, offroad and camping innovation\, and building community. From 9 AM to 6 PM each day\, attendees can dive into cutting-edge gear\, hands-on demonstrations\, and real-world training from the industry’s top brands and experts. MOORE Expo offers over 70 hours of expert led training classes anywhere from campfire cooking to hands-on recovery of an overturned vehicle. \nMeet the adventurers behind epic cross-country journeys\, explore professionally built overland rigs\, and get inspired to tackle your own next adventure. Whether you’re a seasoned traveler or just starting your journey into the overland lifestyle\, MOORE Expo is the place where stories are shared\, skills are sharpened\, and your next great trip begins. \nWhat is MOORE Expo? Learn MOORE HERE – https://youtu.be/fqaEEyKGsIg?si=ZoXQKVCSYu2yo7WI
URL:https://thedyrt.com/magazine/event/moore-expo/
LOCATION:Ozark Empire Fairgrounds\, 3001 N Grant Ave\, Springfield\, MO\, 65803\, United States
CATEGORIES:Overlanding
ATTACH;FMTTYPE=image/jpeg:https://blog-assets.thedyrt.com/uploads/2025/09/484163433_619134677610909_7832459302210063599_n.jpg
END:VEVENT
BEGIN:VEVENT
DTSTART;VALUE=DATE:20260515
DTEND;VALUE=DATE:20260518
DTSTAMP:20260418T224432
CREATED:20260409T202332Z
LAST-MODIFIED:20260409T202332Z
UID:65852-1778803200-1779062399@thedyrt.com
SUMMARY:Northology: Cleanup Campout for KORC 2026
DESCRIPTION:Join us for a fun campout weekend in the Keweenaw and let’s clean up some trails while we are at it! \nMay 15\, 16-17.  Join us for another Cleanup Campout for KORC.  Tickets are per person and include a swag bundle and camping on Friday and Saturday at Trails End. After the cleanup on Saturday\, there is free time for trail rides\, hiking\, exploring\, shopping\, relaxing\, and prepping for the Overland Taco Bar Potluck followed by bonfire\, giveaways and live music. \nTitle Sponsor – Redridge Industries \nSupporting Partners- Northstar Overlanding\, MOORE Expo\, MidlandUSA \nPresented by Northology Adventures \nNOTE: 50% of the ticket fee will go directly to KORC\, as either a membership for you or donation if you are already a member. You do not have to register or pay to participate in the cleanup alone\, but you do if you wish to join us for camping and other camp-related activities. \nSCHEDULE OF ACTIVITIES- \nFriday- 5/15 \n\n3-8pm -Camp check-in\, setup & free time\n8pm -Bonfire\, smores\, hot cocoa & camp cocktails.\n\nSaturday- 5/16 \n\n9AM-1pm -KORC Cleanup\n\n\n– Meet at the KORC tent in Donny Kilpela Park next to the Post Office in Copper Harbor to sign waiver.\n– Groups will be given an area to focus on\n– Trash bags will be provided\n\n– Bring gloves if you are able to (work or gardening gloves ideally)\n– Please bring a water bottle or canteen to make sure you stay hydrated\n– Clean-up sections for us will be the harder-to-reach places – please canvas deep into the woods!\n\n\n\n\n1PM -KORC Volunteer cookout at the pavilion in Donny Kilpela Park. KORC volunteers will be feeding us lunch (last year food was donated by the Mariner) and there will be drawings for prizes donated by local businesses.\n2-6:30pm -free time (trail rides\, hiking\, more fun stuff TBA)\n6:30pm -Overland Taco Bar Potluck (bring a dish to pass if you wish to participate.)\n8pm -Bonfire\, sponsor giveaways.\n\nSunday- 5/17 \n\n11am -Checkout\n\n***all times eastern**** \n*itinerary subject to change\, we will do our best to keep you updated by email if changes occur.
URL:https://thedyrt.com/magazine/event/northology-cleanup-campout-for-korc-2026/
LOCATION:Trails End Campground\, 14203 M-26\, Copper Harbor\, MI\, 49918\, United States
ATTACH;FMTTYPE=image/jpeg:https://blog-assets.thedyrt.com/uploads/2026/04/north.jpg
END:VEVENT
BEGIN:VEVENT
DTSTART;VALUE=DATE:20260529
DTEND;VALUE=DATE:20260601
DTSTAMP:20260418T224432
CREATED:20260409T202726Z
LAST-MODIFIED:20260409T202826Z
UID:65856-1780012800-1780271999@thedyrt.com
SUMMARY:Northology: Midwest Women’s Off-road Weekend 2026
DESCRIPTION:Join us for a women-helping-women off-road and overland camping weekend filled with learning\, laughter and friendship. \n  \nLearn with us! \n\nOff-road driving techniques\nVehicle recovery & safety\nRig setup & gear packout\nNavigation & mapping\nComms & radios\n\n____________________________________________ \n  \nFeatured instructors and speakers– Rebelle Rally competitor\, Director of Marketing\, IRONMAN 4X4 USA\, President\, Falcon Dynamic Consulting\, SEMA SBN Select Committee Katie Abraham is returning as our keynote speaker and will be crafting the instructional programming with Rebelle Rally competitor and Discover 4×4 Adventures owner Keri Porter. Also joining us is Alex Eschen of Northwoods Oveland Adventures to share trail trauma care tips an first aid kit build-outs.  Additional instructors TBA. \nJoin us for a fun weekend in the northwoods to learn\, grow and connect. All vehicle types are welcome and we promise a fun and educational weekend for all. Watch the Midwest Women’s Offroad Network facebook group for event info\, and speaker profiles\, news\, schedules and more! \n\nAll levels of experience and all rigs welcome.\nSwag bag & tee shirt for each attendee.\nClasses & seminars with on-site and off-site demos\, instruction & trail rides.\nEvening bonfire gatherings\, chat sessions giveaways from our sponsors.\nLight breakfast (fruit\, oatmeal\, yogurt\, pastries etc.) provided Saturday and Sunday morning.\nFacilities- Camping is included with your ticket! We will be sharing large sites in a private loop in River Forest Campground. You can also book available cabins through the campground website if you prefer. 
URL:https://thedyrt.com/magazine/event/midwest-womens-off-road-weekend-2026/
LOCATION:River Forest Campground\, 510 Co Hwy WW\, White Lake\, WI\, 54491\, United States
ATTACH;FMTTYPE=image/png:https://blog-assets.thedyrt.com/uploads/2026/04/Screenshot-2026-04-09-at-1.26.42-PM.png
END:VEVENT
BEGIN:VEVENT
DTSTART;VALUE=DATE:20260917
DTEND;VALUE=DATE:20260921
DTSTAMP:20260418T224432
CREATED:20260409T203045Z
LAST-MODIFIED:20260409T203045Z
UID:65860-1789603200-1789948799@thedyrt.com
SUMMARY:Northology: KOAR 2026- Keweenaw Overland Adventure Retreat
DESCRIPTION:EXPLORE THE KEWEENAW WITH US\n2026 Title Sponsor- ChiTown 4×4 \nGather with your tribe.\nStoke your passion for vehicle based adventure travel.\nMake memories that will last a lifetime.\nA NORTHOLOGY OVERLAND BASECAMP COMMUNITY EVENT PRESENTED BY CHITOWN 4X4 \nThe Keweenaw Peninsula is the perfect backdrop for a basecamp location centered around sight-seeing\, hiking\, and rugged two-track exploration for just about every level of comfort & ability. At camp there will be vendors\, seminars\, demos & clinics\, door prizes\, live entertainment and a play/activity area for the kids. Off-camp adventure options include two-track touring\, rockhounding\, waterfall chasing\, astrophotography\, kayaking\, mountain biking\, hiking\, sea plane tours and more (some activities require reservations and are not included in your KOAR ticket.) Camping\, swag bag\, printed guide\, sticker\, tee and all basecamp activities included with your KOAR Pass. Day Pass includes printed guide\, swag bag\, sticker\, raffle ticket and all basecamp activities\, no camping or tshirt. Some offsite activities require an extra fee (seaplane tour\, mtb & sea kayaking for example.) \nNOTE: Times\, activities\, and venue subject to change without notice. \nREFUNDS: Full refunds available up to 30 days prior to the event only. \nWAIVER: By purchasing a ticket to this event\, you acknowledge and accept all risks associated with overland travel\, camping\, trail use\, and event participation. You agree to release\, indemnify\, and hold harmless the event organizers\, volunteers\, landowners\, sponsors\, partners\, and any affiliated individuals or entities from any and all claims\, injuries\, damages\, losses\, or liabilities that may occur\, including those arising from negligence. Your participation is voluntary\, and you accept full responsibility for your own safety and the safety of any minors or guests in your care.
URL:https://thedyrt.com/magazine/event/northology-koar-2026-keweenaw-overland-adventure-retreat/
LOCATION:Trails End Campground\, 14203 M-26\, Copper Harbor\, MI\, 49918\, United States
ATTACH;FMTTYPE=image/jpeg:https://blog-assets.thedyrt.com/uploads/2026/04/IMG_2601-2048x814-1.jpg
END:VEVENT
BEGIN:VEVENT
DTSTART;VALUE=DATE:20261002
DTEND;VALUE=DATE:20261005
DTSTAMP:20260418T224432
CREATED:20260409T203514Z
LAST-MODIFIED:20260409T203514Z
UID:65864-1790899200-1791158399@thedyrt.com
SUMMARY:Northology: 2026 Wisconsin Fall 4×4 Fest
DESCRIPTION:Wisconsin Fall 4×4 Fest- A Celebration of Trails\n* Title Sponsor- TrailBuilt Offroad\n* 1-Year subscription to The Dyrt PRO camping app included with every ticket purchase ( a $59 value) *\nNorthology Adventures is excited to announce the Second Annual Wisconsin Fall 4×4 Fest\, to celebrate the West Evergreen OHMV trail system  in Langlade County and support its continued development and stewardship. This event will take place October 2-4\, with a basecamp-style gathering and campout at River Forest Campground. \nThe West Evergreen trail system represents a significant achievement for the off-road community in Wisconsin\, made possible by the vision and dedication of Langlade County Forestry\, Parks and Recreation Department and the hard work of  4Lakes 4Wheelers Club and other organizations. Fall 4×4 Fest aims to recognize those efforts while building awareness\, encouraging responsible trail use\, and gathering with like-minded folks to enjoy a weekend of camping and trail riding. \nThe Fall 4×4 Fest Pass includes a tshirt\, swag bag\, printed guide\, raffle ticket\, and dinner on Saturday. Attendees will be provided with maps for rail rides\, one ticket for the raffles\, and the camaraderie that comes with sharing the trail. Raffle proceeds to benefit the Wolf River Volunteer Fire Department and we will also be collecting non-perishable food items for the local food pantry. \n*Camping and cabins are extra- see tickets for the option that is right for you! \n*Langlade County OHMV passes and permit NOT included but are available at the River Forest Campground office\, the Langlade County Forestry Office in Antigo and other retail establishments in the area. \nFamily friendly event. Kids under 18 free. Dogs welcome\, must be leashed and picked up after immediately\, thank you! \n________________________________________ \nWisconsin Fall 4×4 Fest – Event Itinerary\nFriday 10/3 \n\n3:00 PM to 7:00 PM – / Check-in / set up camp / free time\n7:00 PM – Welcome bonfire\, introductions\, event info\, announcements and bonus giveaways\n\nSaturday 10/4 \n\n7:00-10:00 AM- Coffee and pastries available for purchase at Camp HQ\n9:00 AM to 9:30AM – Trail & coffee talk (learn about the West Evergreen trails\, permits\, maps and responsible trail use)\n9:45-10:30- Trail Recovery Clinic – TBA\n10:30 AM to 6:00 PM – Free time for self-guided / crowd-sourced trail rides\n6:00 PM Happy Hour\n6:30 PM – Catered dinner by Kitchensbrew- TBA\n7:30 PM- Bonfire gathering\, thank yous\, and raffles to benefit the Wolf River Fire Department\n8:00-10 PM – Live music TBA\n\nSunday 10/5 \n\n11:00 AM – Camp closes / departure\n\nEvent Waiver \nBy purchasing a ticket and participating in the Wisconsin Fall 4×4 Fest\, you agree to the following: \n\n\nYou acknowledge that off-road driving\, camping\, and related activities involve inherent risks\, including property damage\, personal injury\, and outdoor hazards. \n\n\nYou accept full responsibility for your personal safety and the safety of any minors in your care. \n\n\nYou release Northology Adventures\, River Forest Campground\, Langlade County Forestry Department\, event organizers\, volunteers\, sponsors\, and partners from all liability for injuries\, property damage\, or losses occurring before\, during\, or after the event. \n\n\nYou agree to operate your vehicle safely\, follow event guidelines\, and practice responsible recreation.
URL:https://thedyrt.com/magazine/event/northology-2026-wisconsin-fall-4x4-fest/
LOCATION:River Forest Campground\, 510 Co Hwy WW\, White Lake\, WI\, 54491\, United States
ATTACH;FMTTYPE=image/png:https://blog-assets.thedyrt.com/uploads/2026/04/Screenshot-2026-04-09-at-1.34.47-PM.png
END:VEVENT
BEGIN:VEVENT
DTSTART;VALUE=DATE:20261015
DTEND;VALUE=DATE:20261018
DTSTAMP:20260418T224432
CREATED:20251211T205340Z
LAST-MODIFIED:20260126T203634Z
UID:63377-1792022400-1792281599@thedyrt.com
SUMMARY:Rendezvous in the Ozarks
DESCRIPTION:If you own a 4×4 vehicle and enjoy the overlanding lifestyle or you just want to learn more about this fast growing passion you are invited to join Natural State Overland at Mulberry Mountain Lodge\, in the beautiful Ozark Mountains of Arkansas October 15-17 2026\, where you will rendezvous with others who share your interest in overland style travel and all the adventure it brings! If you haven’t experienced the trails and backroads of the Ozarks\, you don’t want to miss this opportunity\, and if you have this is your chance to get back out there. \nDates: Thursday\, October 15th – Saturday\, October 17th 2026\n​\nRegistration: Event registration opens May 1\, 2026!\n​\nVenue: Mulberry Mountain Lodge and the Ozark National Forest
URL:https://thedyrt.com/magazine/event/rendezvous-in-the-ozarks/
LOCATION:Mulberry Mountain Lodge\, 4117 Mulberry Mountain Loop #9306\, Ozark\, AR\, 72949\, United States
ATTACH;FMTTYPE=image/jpeg:https://blog-assets.thedyrt.com/uploads/2025/12/0f33b9_9dc4f50bef3d4cf78e7efe11f9204810mv2_d_2793_2078_s_2.jpg
END:VEVENT
BEGIN:VEVENT
DTSTART;VALUE=DATE:20261015
DTEND;VALUE=DATE:20261019
DTSTAMP:20260418T224432
CREATED:20260409T204012Z
LAST-MODIFIED:20260409T204012Z
UID:65867-1792022400-1792367999@thedyrt.com
SUMMARY:Northology: Overland the Red 2026
DESCRIPTION:Find your next great adventure at Overland the Red. \nTitle Sponsor- Dan Cummins Auto \nSupporting Partners- Northstar Overlanding\, MOORE Expo\, MidlandUSA\, Flat Peak Level Tent\, TCTeardrops\, All Dogs Offroad\, Coddiwomple Overland \nPresented by Northology Adventures \nOur basecamp at Callies in the Red River Gorge is near the heart of the Daniel Boone National Forest. Enjoy all the outdoor activities the area has to offer during Appalachia’s peak fall colors. Go off road touring on the Daniel Boone Backcountry Byway or Kentucky Adventure Trail. Drive the Red River Gorge Scenic Byway. Hike to one of 150 sandstone aches\, try climbing\, canoeing\, zip lining\, underground kayaking\, and amazing local dining all within minutes of camp. Meet back at basecamp each day to visit the vendor village\, gather around the campfires and maybe win a fabulous prize in our raffles and giveaways. \n  \n\nOVERLAND & OFF ROAD VENDORS & DISPLAYS\nPRIMITIVE CAMPING FOR ALL TYPES OF RIGS & RV SPOTS WITH ELECTRIC\nMINUTES FROM THE DBBB\, THE DBNF\, KAT & AREA OFF ROAD PARKS\nEACH CAMPING PASS TICKET INCLUDES AN EVENT TEE\, SWAG BAG AND TEN FREE RAFFLE TICKETS FOR THE DBBB RAFFLE.\nINFO ON AREA ADVENTURE ACTIVITIES IN OUR PRINTED GUIDE\nEVENING CAMPFIRE GATHERINGS & GIVEAWAYS\nRAFFLE TO BENEFIT THE DANIEL BOONE BACKCOUNTRY BYWAY\n\nWhat’s included— \n\nCamping for you and your rig* (additional passenger ticket sold separately.)\nOverland the Red tshirt\, sticker and printed guide with area trail and tourist info\nSwag bag with goodies from vendors\nRaffle tickets for the evening drawings (extras can be purchased onsite from the RideDBBB org.)
URL:https://thedyrt.com/magazine/event/northology-overland-the-red-2026/
LOCATION:Callie’s Lake and Campground\, 5515 Campton Rd\, Stanton\, KY\, 40380\, United States
ATTACH;FMTTYPE=image/png:https://blog-assets.thedyrt.com/uploads/2026/04/Screenshot-2026-04-09-at-1.38.57-PM.png
END:VEVENT
END:VCALENDAR