BEGIN:VCALENDAR
VERSION:2.0
PRODID:-//The Dyrt - ECPv6.15.18//NONSGML v1.0//EN
CALSCALE:GREGORIAN
METHOD:PUBLISH
X-ORIGINAL-URL:https://thedyrt.com/magazine
X-WR-CALDESC:Events for The Dyrt
REFRESH-INTERVAL;VALUE=DURATION:PT1H
X-Robots-Tag:noindex
X-PUBLISHED-TTL:PT1H
BEGIN:VTIMEZONE
TZID:America/Chicago
BEGIN:DAYLIGHT
TZOFFSETFROM:-0600
TZOFFSETTO:-0500
TZNAME:CDT
DTSTART:20250309T080000
END:DAYLIGHT
BEGIN:STANDARD
TZOFFSETFROM:-0500
TZOFFSETTO:-0600
TZNAME:CST
DTSTART:20251102T070000
END:STANDARD
BEGIN:DAYLIGHT
TZOFFSETFROM:-0600
TZOFFSETTO:-0500
TZNAME:CDT
DTSTART:20260308T080000
END:DAYLIGHT
BEGIN:STANDARD
TZOFFSETFROM:-0500
TZOFFSETTO:-0600
TZNAME:CST
DTSTART:20261101T070000
END:STANDARD
BEGIN:DAYLIGHT
TZOFFSETFROM:-0600
TZOFFSETTO:-0500
TZNAME:CDT
DTSTART:20270314T080000
END:DAYLIGHT
BEGIN:STANDARD
TZOFFSETFROM:-0500
TZOFFSETTO:-0600
TZNAME:CST
DTSTART:20271107T070000
END:STANDARD
END:VTIMEZONE
BEGIN:VEVENT
DTSTART;VALUE=DATE:20260417
DTEND;VALUE=DATE:20260419
DTSTAMP:20260420T010856
CREATED:20250930T191756Z
LAST-MODIFIED:20260320T162529Z
UID:63088-1776384000-1776556799@thedyrt.com
SUMMARY:MOORE Expo
DESCRIPTION:The MOORE Expo is the Midwest’s premier gathering for overlanders\, off-road enthusiasts\, and outdoor adventurers—right in the heart of Springfield\, Missouri. \nReturning April 17–18\, 2026\, this high-energy two-day event transforms the Ozark Empire Fairgrounds into an immersive world of industry exploration\, offroad and camping innovation\, and building community. From 9 AM to 6 PM each day\, attendees can dive into cutting-edge gear\, hands-on demonstrations\, and real-world training from the industry’s top brands and experts. MOORE Expo offers over 70 hours of expert led training classes anywhere from campfire cooking to hands-on recovery of an overturned vehicle. \nMeet the adventurers behind epic cross-country journeys\, explore professionally built overland rigs\, and get inspired to tackle your own next adventure. Whether you’re a seasoned traveler or just starting your journey into the overland lifestyle\, MOORE Expo is the place where stories are shared\, skills are sharpened\, and your next great trip begins. \nWhat is MOORE Expo? Learn MOORE HERE – https://youtu.be/fqaEEyKGsIg?si=ZoXQKVCSYu2yo7WI
URL:https://thedyrt.com/magazine/event/moore-expo/
LOCATION:Ozark Empire Fairgrounds\, 3001 N Grant Ave\, Springfield\, MO\, 65803\, United States
CATEGORIES:Overlanding
ATTACH;FMTTYPE=image/jpeg:https://blog-assets.thedyrt.com/uploads/2025/09/484163433_619134677610909_7832459302210063599_n.jpg
END:VEVENT
END:VCALENDAR